BEGIN:VCALENDAR
VERSION:2.0
PRODID:-//Open-Xchange//7.10.6-Rev89//EN
METHOD:PUBLISH
X-WR-CALNAME:Ferien
BEGIN:VEVENT
DTSTAMP:20240919T083709Z
CLASS:PUBLIC
CREATED:20240919T083709Z
DTEND;VALUE=DATE:20221004
DTSTART;VALUE=DATE:20221003
LAST-MODIFIED:20240919T083709Z
RRULE:FREQ=YEARLY
SEQUENCE:0
SUMMARY:Feiertag 
TRANSP:OPAQUE
UID:06C804BA-633E-4D66-974E-00B225F976A0
X-MICROSOFT-CDO-ALLDAYEVENT:TRUE
X-MICROSOFT-CDO-BUSYSTATUS:BUSY
END:VEVENT
BEGIN:VEVENT
DTSTAMP:20240919T083710Z
CLASS:PUBLIC
CREATED:20240919T083710Z
DTEND;VALUE=DATE:20221101
DTSTART;VALUE=DATE:20221031
EXDATE;VALUE=DATE:20231031
LAST-MODIFIED:20240919T083710Z
RRULE:FREQ=YEARLY
SEQUENCE:1
SUMMARY:Feiertag
TRANSP:OPAQUE
UID:BD80D11E-9CAA-40CE-939E-D585FBAF4049
X-MICROSOFT-CDO-ALLDAYEVENT:TRUE
X-MICROSOFT-CDO-BUSYSTATUS:BUSY
END:VEVENT
BEGIN:VEVENT
DTSTAMP:20240919T083710Z
CLASS:PUBLIC
CREATED:20240919T083710Z
DTEND;VALUE=DATE:20260515
DTSTART;VALUE=DATE:20260514
LAST-MODIFIED:20240919T083710Z
SEQUENCE:0
SUMMARY:Himmelfahrt
TRANSP:OPAQUE
UID:C2E7BACF-42CC-4455-8F0D-5405425F7B1F
X-MICROSOFT-CDO-ALLDAYEVENT:TRUE
X-MICROSOFT-CDO-BUSYSTATUS:BUSY
END:VEVENT
BEGIN:VEVENT
DTSTAMP:20240919T083709Z
CLASS:PUBLIC
CREATED:20240919T083709Z
DTEND;VALUE=DATE:20260516
DTSTART;VALUE=DATE:20260515
LAST-MODIFIED:20240919T083709Z
SEQUENCE:0
SUMMARY:Ferientag
TRANSP:OPAQUE
UID:448D6F7A-F80C-4C75-8932-0D316DC130CA
X-MICROSOFT-CDO-ALLDAYEVENT:TRUE
X-MICROSOFT-CDO-BUSYSTATUS:BUSY
END:VEVENT
BEGIN:VEVENT
DTSTAMP:20240919T083709Z
CLASS:PUBLIC
CREATED:20240919T083709Z
DTEND;VALUE=DATE:20260816
DTSTART;VALUE=DATE:20260704
LAST-MODIFIED:20240919T083709Z
SEQUENCE:0
SUMMARY:Sommerferien
TRANSP:OPAQUE
UID:1806AD4D-B06D-4882-BA4D-1F89FB3AADB2
X-MICROSOFT-CDO-ALLDAYEVENT:TRUE
X-MICROSOFT-CDO-BUSYSTATUS:BUSY
END:VEVENT
BEGIN:VEVENT
DTSTAMP:20240919T083709Z
CLASS:PUBLIC
CREATED:20240919T083709Z
DTEND;VALUE=DATE:20261025
DTSTART;VALUE=DATE:20261012
LAST-MODIFIED:20240919T083709Z
SEQUENCE:0
SUMMARY:Herbsferien
TRANSP:OPAQUE
UID:3B18A0CC-549B-4131-AC83-24E4FD411318
X-MICROSOFT-CDO-ALLDAYEVENT:TRUE
X-MICROSOFT-CDO-BUSYSTATUS:BUSY
END:VEVENT
BEGIN:VEVENT
DTSTAMP:20240919T083709Z
CLASS:PUBLIC
CREATED:20240919T083709Z
DTEND;VALUE=DATE:20270107
DTSTART;VALUE=DATE:20261221
LAST-MODIFIED:20240919T083709Z
SEQUENCE:1
SUMMARY:Weihnachtsferien
TRANSP:OPAQUE
UID:21F9094B-DA19-4574-825D-58A27C5B0348
X-MICROSOFT-CDO-ALLDAYEVENT:TRUE
X-MICROSOFT-CDO-BUSYSTATUS:BUSY
END:VEVENT
BEGIN:VEVENT
DTSTAMP:20260414T080232Z
CLASS:PUBLIC
CREATED:20260414T080232Z
DTEND;VALUE=DATE:20270203
DTSTART;VALUE=DATE:20270201
LAST-MODIFIED:20260414T080232Z
SEQUENCE:0
SUMMARY:Bewegliche Ferientage
TRANSP:OPAQUE
UID:af180dc8-da48-4a42-ac8b-2ae5b89ea1ba
X-MICROSOFT-CDO-ALLDAYEVENT:TRUE
X-MICROSOFT-CDO-BUSYSTATUS:BUSY
END:VEVENT
BEGIN:VEVENT
DTSTAMP:20260414T115655Z
CLASS:PUBLIC
CREATED:20240919T083710Z
DTEND;VALUE=DATE:20270411
DTSTART;VALUE=DATE:20270326
LAST-MODIFIED:20260414T115655Z
SEQUENCE:2
SUMMARY:Osterferien
TRANSP:OPAQUE
UID:7838D5E0-2ED5-4346-9C38-B51268D92BF6
X-MICROSOFT-CDO-ALLDAYEVENT:TRUE
X-MICROSOFT-CDO-BUSYSTATUS:BUSY
END:VEVENT
END:VCALENDAR
